BEGIN:VCALENDAR
VERSION:2.0
PRODID:-// - ECPv5.5.0.1//NONSGML v1.0//EN
CALSCALE:GREGORIAN
METHOD:PUBLISH
X-ORIGINAL-URL:http://carlwoodall.com
X-WR-CALDESC:Events for 
BEGIN:VTIMEZONE
TZID:America/New_York
BEGIN:DAYLIGHT
TZOFFSETFROM:-0500
TZOFFSETTO:-0400
TZNAME:EDT
DTSTART:20240310T070000
END:DAYLIGHT
BEGIN:STANDARD
TZOFFSETFROM:-0400
TZOFFSETTO:-0500
TZNAME:EST
DTSTART:20241103T060000
END:STANDARD
END:VTIMEZONE
BEGIN:VEVENT
DTSTART;TZID=America/New_York:20240820T190000
DTEND;TZID=America/New_York:20240820T210000
DTSTAMP:20260422T131710
CREATED:20240703T005300Z
LAST-MODIFIED:20240703T005300Z
UID:1685-1724180400-1724187600@carlwoodall.com
SUMMARY:Online Psychic Development Classes Level 2
DESCRIPTION:Night 3
URL:http://carlwoodall.com/events/online-psychic-development-classes-level-2-2/
LOCATION:Online Classes
END:VEVENT
END:VCALENDAR