BEGIN:VCALENDAR
VERSION:2.0
PRODID:-// - ECPv5.5.0.1//NONSGML v1.0//EN
CALSCALE:GREGORIAN
METHOD:PUBLISH
X-ORIGINAL-URL:http://carlwoodall.com
X-WR-CALDESC:Events for 
BEGIN:VTIMEZONE
TZID:America/New_York
BEGIN:DAYLIGHT
TZOFFSETFROM:-0500
TZOFFSETTO:-0400
TZNAME:EDT
DTSTART:20240310T070000
END:DAYLIGHT
BEGIN:STANDARD
TZOFFSETFROM:-0400
TZOFFSETTO:-0500
TZNAME:EST
DTSTART:20241103T060000
END:STANDARD
END:VTIMEZONE
BEGIN:VEVENT
DTSTART;TZID=America/New_York:20241105T190000
DTEND;TZID=America/New_York:20241105T210000
DTSTAMP:20260421T164415
CREATED:20240703T011559Z
LAST-MODIFIED:20240703T011559Z
UID:1714-1730833200-1730840400@carlwoodall.com
SUMMARY:Online Psychic Development Classes Level 5 Channeling and Mediumship
DESCRIPTION:Night 2
URL:http://carlwoodall.com/events/online-psychic-development-classes-level-5-channeling-and-mediumship-2/
LOCATION:Online Classes
ORGANIZER;CN="Carl%20Woodall":MAILTO:Carl@carlwoodall.com
END:VEVENT
END:VCALENDAR